BEGIN:VCALENDAR
VERSION:2.0
PRODID:-//ChamberMaster//Event Calendar 2.0//EN
METHOD:PUBLISH
X-PUBLISHED-TTL:P3D
REFRESH-INTERVAL:P3D
CALSCALE:GREGORIAN
BEGIN:VEVENT
DTSTART:20080613T150000Z
DTEND:20080613T183000Z
X-MICROSOFT-CDO-ALLDAYEVENT:FALSE
SUMMARY:Womens Committee Salad Luncheon
DESCRIPTION:For $15 you can enjoy 10 delicious home-made salads\, rolls\, delectable desserts\, and beverages. \n                    \nIncludes drawing for a door prize plus a booklet of recipes.\n\nLuncheon served during the Chagrin Valley Home and Garden Tour.\nFor home tour ticket info call 440-247-1895\nPurchase tickets at 83 N. Main St. (11-3) or at www.chagrinfalls.net
X-ALT-DESC;FMTTYPE=text/html:For $15 you can enjoy 10 delicious home-made salads\, rolls\, delectable desserts\, and beverages. \n                    \nIncludes drawing for a door prize plus a booklet of recipes.\n\nLuncheon served during the Chagrin Valley Home and Garden Tour.\nFor home tour ticket info call 440-247-1895\nPurchase tickets at 83 N. Main St. (11-3) or at www.chagrinfalls.net
LOCATION:CVLT River
UID:e.806.6695
SEQUENCE:3
DTSTAMP:20260423T195117Z
URL:http://business.cvcc.org/events/details/womens-committee-salad-luncheon-06-13-2008-6695
END:VEVENT

END:VCALENDAR
