BEGIN:VCALENDAR
VERSION:2.0
PRODID:-//ChamberMaster//Event Calendar 2.0//EN
METHOD:PUBLISH
X-PUBLISHED-TTL:P3D
REFRESH-INTERVAL:P3D
CALSCALE:GREGORIAN
BEGIN:VEVENT
DTSTART:20091107T010000Z
DTEND:20091107T030000Z
X-MICROSOFT-CDO-ALLDAYEVENT:FALSE
SUMMARY:Vital Signs
DESCRIPTION:A revealing and insightful look at the characters’ everyday lives through honest and engaging monologues.
X-ALT-DESC;FMTTYPE=text/html:A revealing and insightful look at the characters’ everyday lives through honest and engaging monologues.
LOCATION:River Street Playhouse - 56 River Street\, Chagrin Falls OH 44122
UID:e.806.6660
SEQUENCE:3
DTSTAMP:20260422T155724Z
URL:http://business.cvcc.org/events/details/vital-signs-11-06-2009-6660
END:VEVENT

END:VCALENDAR
