BEGIN:VCALENDAR
VERSION:2.0
PRODID:-//ChamberMaster//Event Calendar 2.0//EN
METHOD:PUBLISH
X-PUBLISHED-TTL:P3D
REFRESH-INTERVAL:P3D
CALSCALE:GREGORIAN
BEGIN:VEVENT
DTSTART:20100313T010000Z
DTEND:20100313T030000Z
X-MICROSOFT-CDO-ALLDAYEVENT:FALSE
SUMMARY:The Secre Affairs of Mildred Wild
DESCRIPTION:A middle-aged woman conjures up fantasies from the movies to escape reality.
X-ALT-DESC;FMTTYPE=text/html:A middle-aged woman conjures up fantasies from the movies to escape reality.
LOCATION:Chagrin Valley Little Theatre - 40 River Street\, Chagrin Falls OH 44022
UID:e.806.6653
SEQUENCE:3
DTSTAMP:20260422T090731Z
URL:http://business.cvcc.org/events/details/the-secre-affairs-of-mildred-wild-03-12-2010-6653
END:VEVENT

END:VCALENDAR
