BEGIN:VCALENDAR
VERSION:2.0
PRODID:-//ChamberMaster//Event Calendar 2.0//EN
METHOD:PUBLISH
X-PUBLISHED-TTL:P3D
REFRESH-INTERVAL:P3D
CALSCALE:GREGORIAN
BEGIN:VEVENT
DTSTART:20110702T000000Z
DTEND:20110702T020000Z
X-MICROSOFT-CDO-ALLDAYEVENT:FALSE
SUMMARY:Ten-Ten Festival
DESCRIPTION:CVLT's successful festival of ten ten-minute\, one-act plays returns to the River Street Playhouse\, featuring premiere works by playwrights from Northeast Ohio and beyond.
X-ALT-DESC;FMTTYPE=text/html:CVLT's successful festival of ten ten-minute\, one-act plays returns to the River Street Playhouse\, featuring premiere works by playwrights from Northeast Ohio and beyond. 
LOCATION:CVLT's River Street Playhouse
UID:e.806.6617
SEQUENCE:3
DTSTAMP:20260421T063146Z
URL:http://business.cvcc.org/events/details/ten-ten-festival-07-01-2011-6617
END:VEVENT

END:VCALENDAR
