BEGIN:VCALENDAR
VERSION:2.0
PRODID:-//ChamberMaster//Event Calendar 2.0//EN
METHOD:PUBLISH
X-PUBLISHED-TTL:P3D
REFRESH-INTERVAL:P3D
CALSCALE:GREGORIAN
BEGIN:VEVENT
DTSTART:20080315T000000Z
DTEND:20080315T020000Z
X-MICROSOFT-CDO-ALLDAYEVENT:FALSE
SUMMARY:Sherlock Holmes: The Final Adventure
DESCRIPTION:The   world’s most famous detective is drawn into the path of death and love by his   greatest nemesis. Get more information and buy tickets...
X-ALT-DESC;FMTTYPE=text/html:<p> The   world’s most famous detective is drawn into the path of death and love by his   greatest nemesis. <a href="http://www.cvlt.org/78thSeason/sherlock.php">Get more information and buy tickets... </a></p>
LOCATION:CVLT Main Stage
UID:e.806.6723
SEQUENCE:3
DTSTAMP:20260423T235352Z
URL:http://business.cvcc.org/events/details/sherlock-holmes-the-final-adventure-03-14-2008-6723
END:VEVENT

END:VCALENDAR
