BEGIN:VCALENDAR
VERSION:2.0
PRODID:-//ChamberMaster//Event Calendar 2.0//EN
METHOD:PUBLISH
X-PUBLISHED-TTL:P3D
REFRESH-INTERVAL:P3D
CALSCALE:GREGORIAN
BEGIN:VEVENT
DTSTART:20100101T010000Z
DTEND:20100101T020000Z
X-MICROSOFT-CDO-ALLDAYEVENT:FALSE
SUMMARY:New Year's Musical Revue at 8 pm
DESCRIPTION:
X-ALT-DESC;FMTTYPE=text/html:
LOCATION:
UID:e.806.6657
SEQUENCE:3
DTSTAMP:20260422T141223Z
URL:http://business.cvcc.org/events/details/new-year-s-musical-revue-at-8-pm-01-01-2010-6657
END:VEVENT

END:VCALENDAR
