BEGIN:VCALENDAR
VERSION:2.0
PRODID:-//ChamberMaster//Event Calendar 2.0//EN
METHOD:PUBLISH
X-PUBLISHED-TTL:P3D
REFRESH-INTERVAL:P3D
CALSCALE:GREGORIAN
BEGIN:VEVENT
DTSTART:20100213T010000Z
DTEND:20100213T030000Z
X-MICROSOFT-CDO-ALLDAYEVENT:FALSE
SUMMARY:Mr. Death & The Red-Headed Woman
DESCRIPTION:Feisty Maude chases after Mr. Death when her beloved Billy is gunned down in a saloon.
X-ALT-DESC;FMTTYPE=text/html:Feisty Maude chases after Mr. Death when her beloved Billy is gunned down in a saloon.
LOCATION:River Street Playhouse - 56 River Street\, Chagrin Falls OH 44022
UID:e.806.6655
SEQUENCE:3
DTSTAMP:20260422T104255Z
URL:http://business.cvcc.org/events/details/mr-death-the-red-headed-woman-02-12-2010-6655
END:VEVENT

END:VCALENDAR
