BEGIN:VCALENDAR
VERSION:2.0
PRODID:-//ChamberMaster//Event Calendar 2.0//EN
METHOD:PUBLISH
X-PUBLISHED-TTL:P3D
REFRESH-INTERVAL:P3D
CALSCALE:GREGORIAN
BEGIN:VEVENT
DTSTART:20080419T000000Z
DTEND:20080419T020000Z
X-MICROSOFT-CDO-ALLDAYEVENT:FALSE
SUMMARY:Is There Life After High School?
DESCRIPTION:This   touching musical comedy examines the lasting effects of our high school years on   each of us. Get more information and buy tickets...
X-ALT-DESC;FMTTYPE=text/html: This   touching musical comedy examines the lasting effects of our high school years on   each of us. <a href="http://www.cvlt.org/78thSeason/highschool.php">Get more information and buy tickets...
LOCATION:CVLT Main Stage
UID:e.806.6722
SEQUENCE:3
DTSTAMP:20260423T222334Z
URL:http://business.cvcc.org/events/details/is-there-life-after-high-school-04-18-2008-6722
END:VEVENT

END:VCALENDAR
