BEGIN:VCALENDAR
VERSION:2.0
PRODID:-//ChamberMaster//Event Calendar 2.0//EN
METHOD:PUBLISH
X-PUBLISHED-TTL:P3D
REFRESH-INTERVAL:P3D
CALSCALE:GREGORIAN
BEGIN:VEVENT
DTSTART:20101212T190000Z
DTEND:20101212T200000Z
X-MICROSOFT-CDO-ALLDAYEVENT:FALSE
SUMMARY:Holiday Show & Gingerbread Tea -
DESCRIPTION:
X-ALT-DESC;FMTTYPE=text/html:
LOCATION:
UID:e.806.6632
SEQUENCE:3
DTSTAMP:20260421T175058Z
URL:http://business.cvcc.org/events/details/holiday-show-gingerbread-tea-12-12-2010-6632
END:VEVENT

END:VCALENDAR
