BEGIN:VCALENDAR
VERSION:2.0
PRODID:-//ChamberMaster//Event Calendar 2.0//EN
METHOD:PUBLISH
X-PUBLISHED-TTL:P3D
REFRESH-INTERVAL:P3D
CALSCALE:GREGORIAN
BEGIN:VEVENT
DTSTART:20071013T000000Z
DTEND:20071013T020000Z
X-MICROSOFT-CDO-ALLDAYEVENT:FALSE
SUMMARY:Fuddy Meers
DESCRIPTION:Amnesia-stricken Claire is   abducted by a mysterious man in this high-pitched\, absurdist comedy by David Lindsay-Abaire. Get more information and buy tickets...
X-ALT-DESC;FMTTYPE=text/html: Amnesia-stricken Claire is   abducted by a mysterious man in this high-pitched\, absurdist comedy by David Lindsay-Abaire. <a href="http://www.cvlt.org/78thSeason/fuddymeers.php">Get more information and buy tickets...</a>
LOCATION:The River Street Playhouse
UID:e.806.6727
SEQUENCE:3
DTSTAMP:20260424T063757Z
URL:http://business.cvcc.org/events/details/fuddy-meers-10-12-2007-6727
END:VEVENT

END:VCALENDAR
