BEGIN:VCALENDAR
VERSION:2.0
PRODID:-//ChamberMaster//Event Calendar 2.0//EN
METHOD:PUBLISH
X-PUBLISHED-TTL:P3D
REFRESH-INTERVAL:P3D
CALSCALE:GREGORIAN
BEGIN:VEVENT
DTSTART:20091224T000000Z
DTEND:20091224T010000Z
X-MICROSOFT-CDO-ALLDAYEVENT:FALSE
SUMMARY:Chagrin Studio Orchestra - Wassail Concert
DESCRIPTION:Stephen Eva directs a Christmas concert for the whole family.
X-ALT-DESC;FMTTYPE=text/html:Stephen Eva directs a Christmas concert for the whole family.
LOCATION:
UID:e.806.6645
SEQUENCE:3
DTSTAMP:20260422T155905Z
URL:http://business.cvcc.org/events/details/chagrin-studio-orchestra-wassail-concert-12-24-2009-6645
END:VEVENT

END:VCALENDAR
