BEGIN:VCALENDAR
VERSION:2.0
PRODID:-//ChamberMaster//Event Calendar 2.0//EN
METHOD:PUBLISH
X-PUBLISHED-TTL:P3D
REFRESH-INTERVAL:P3D
CALSCALE:GREGORIAN
BEGIN:VEVENT
DTSTART:20100214T000000Z
DTEND:20100214T010000Z
X-MICROSOFT-CDO-ALLDAYEVENT:FALSE
SUMMARY:Chagrin Studio Orchestra - Valentine's Concert at 7pm
DESCRIPTION:
X-ALT-DESC;FMTTYPE=text/html:
LOCATION:
UID:e.806.6654
SEQUENCE:3
DTSTAMP:20260422T105458Z
URL:http://business.cvcc.org/events/details/chagrin-studio-orchestra-valentine-s-concert-at-7pm-02-14-2010-6654
END:VEVENT

END:VCALENDAR
