BEGIN:VCALENDAR
VERSION:2.0
PRODID:-//ChamberMaster//Event Calendar 2.0//EN
METHOD:PUBLISH
X-PUBLISHED-TTL:P3D
REFRESH-INTERVAL:P3D
CALSCALE:GREGORIAN
BEGIN:VEVENT
DTSTART:20101223T010000Z
DTEND:20101223T020000Z
X-MICROSOFT-CDO-ALLDAYEVENT:FALSE
SUMMARY:Chagrin Falls Studio Orchestra's Holiday Show -
DESCRIPTION:
X-ALT-DESC;FMTTYPE=text/html:
LOCATION:
UID:e.806.6633
SEQUENCE:3
DTSTAMP:20260421T192452Z
URL:http://business.cvcc.org/events/details/chagrin-falls-studio-orchestra-s-holiday-show-12-23-2010-6633
END:VEVENT

END:VCALENDAR
