BEGIN:VCALENDAR
VERSION:2.0
PRODID:-//ChamberMaster//Event Calendar 2.0//EN
METHOD:PUBLISH
X-PUBLISHED-TTL:P3D
REFRESH-INTERVAL:P3D
CALSCALE:GREGORIAN
BEGIN:VEVENT
DTSTART:20110115T010000Z
DTEND:20110115T030000Z
X-MICROSOFT-CDO-ALLDAYEVENT:FALSE
SUMMARY:Bloody Murder
DESCRIPTION:Ed Sala presents an Agatha Christie-style "whodunit"\, with six suspicious characters locked in Lady Somerset's countryside estate\, trying to unravel a murder. The wealthy Lady is convinced that they are merely characters in a mystery story\, and the play itself becomes a hilarious battle between the writer and his creations! Directed by Douglas Farren.
X-ALT-DESC;FMTTYPE=text/html:Ed Sala presents an Agatha Christie-style "whodunit"\, with six suspicious characters locked in Lady Somerset's countryside estate\, trying to unravel a murder. The wealthy Lady is convinced that they are merely characters in a mystery story\, and the play itself becomes a hilarious battle between the writer and his creations! Directed by Douglas Farren. 
LOCATION:Chagrin Valley Little Theatre
UID:e.806.6625
SEQUENCE:3
DTSTAMP:20260421T161324Z
URL:http://business.cvcc.org/events/details/bloody-murder-01-14-2011-6625
END:VEVENT

END:VCALENDAR
