BEGIN:VCALENDAR
VERSION:2.0
PRODID:-//ChamberMaster//Event Calendar 2.0//EN
METHOD:PUBLISH
X-PUBLISHED-TTL:P3D
REFRESH-INTERVAL:P3D
CALSCALE:GREGORIAN
BEGIN:VEVENT
DTSTART:20080129T000000Z
DTEND:20080129T010000Z
X-MICROSOFT-CDO-ALLDAYEVENT:FALSE
SUMMARY:Auditions for 'Life After High School'
DESCRIPTION:
X-ALT-DESC;FMTTYPE=text/html:
LOCATION:
UID:e.806.6706
SEQUENCE:3
DTSTAMP:20260424T022431Z
URL:http://business.cvcc.org/events/details/auditions-for-life-after-high-school-01-29-2008-6706
END:VEVENT

END:VCALENDAR
