BEGIN:VCALENDAR
VERSION:2.0
PRODID:-//ChamberMaster//Event Calendar 2.0//EN
METHOD:PUBLISH
X-PUBLISHED-TTL:P3D
REFRESH-INTERVAL:P3D
CALSCALE:GREGORIAN
BEGIN:VEVENT
DTSTART:20110405T233000Z
DTEND:20110406T013000Z
X-MICROSOFT-CDO-ALLDAYEVENT:FALSE
SUMMARY:Auditions: Don't Dress for Dinner
DESCRIPTION:http://www.cvlt.org/auditions.php
X-ALT-DESC;FMTTYPE=text/html:http://www.cvlt.org/auditions.php
LOCATION:Chagrin Valley Little Theatre
UID:e.806.6607
SEQUENCE:3
DTSTAMP:20260421T130505Z
URL:http://business.cvcc.org/events/details/auditions-don-t-dress-for-dinner-04-05-2011-6607
END:VEVENT

END:VCALENDAR
