BEGIN:VCALENDAR
VERSION:2.0
PRODID:-//ChamberMaster//Event Calendar 2.0//EN
METHOD:PUBLISH
X-PUBLISHED-TTL:P3D
REFRESH-INTERVAL:P3D
CALSCALE:GREGORIAN
BEGIN:VEVENT
DTSTART:20091017T000000Z
DTEND:20091017T020000Z
X-MICROSOFT-CDO-ALLDAYEVENT:FALSE
SUMMARY:A Murder of Scarecrows
DESCRIPTION:An axe-wielding scarecrow turns the Dandridges’ Halloween party into a hilarious thriller.
X-ALT-DESC;FMTTYPE=text/html:An axe-wielding scarecrow turns the Dandridges’ Halloween party into a hilarious thriller.
LOCATION:Chagrin Valley Little Theatre - 40 River Street\, Chagrin Falls
UID:e.806.6662
SEQUENCE:3
DTSTAMP:20260422T174856Z
URL:http://business.cvcc.org/events/details/a-murder-of-scarecrows-10-16-2009-6662
END:VEVENT

END:VCALENDAR
