BEGIN:VCALENDAR
VERSION:2.0
PRODID:-//ChamberMaster//Event Calendar 2.0//EN
METHOD:PUBLISH
X-PUBLISHED-TTL:P3D
REFRESH-INTERVAL:P3D
CALSCALE:GREGORIAN
BEGIN:VEVENT
DTSTART:20100508T000000Z
DTEND:20100508T020000Z
X-MICROSOFT-CDO-ALLDAYEVENT:FALSE
SUMMARY:A Life in the Theatre
DESCRIPTION:David Mamet’s story of the changing relationship between a veteran actor and a young\, promising actor.
X-ALT-DESC;FMTTYPE=text/html:David Mamet’s story of the changing relationship between a veteran actor and a young\, promising actor.
LOCATION:River Street Playhouse - 56 River Street\, Chagrin Falls OH 44022
UID:e.806.6651
SEQUENCE:3
DTSTAMP:20260422T053242Z
URL:http://business.cvcc.org/events/details/a-life-in-the-theatre-05-07-2010-6651
END:VEVENT

END:VCALENDAR
